BEGIN:VCALENDAR
VERSION:2.0
PRODID:-//CiviCRM//NONSGML CiviEvent iCal//EN
X-WR-TIMEZONE:America/Los_Angeles
METHOD:PUBLISH
BEGIN:VEVENT
UID:CiviCRM_EventID_12101_9e5cc0f7781387636d8448b7094fbf7f@pranichealing.com
SUMMARY:MCKS Advanced Pranic Healing ® Level II (Combo Av
 ailable)
DESCRIPTION:9am-6pm both days.\n \n NOTES: &nbsp\;\n Please ar
 rive by 8:45 AM to complete the final check-in the
  classroom on the first day of class.&nbsp\;\n Par
 king is free in the rear\, side and front of the s
 chool.&nbsp\;\n Seating is Limited and Physical Di
 stancing at 2&#39\; as recommended by the State of
  California Board for Private Postsecondary Educat
 ion (BPPE)\n International MCKS Pranic Healing Cer
 tificate issued in this class valid in over 120 co
 untries\n Provider approved by the California Boar
 d of Registered Nursing\, Provider #15465\, 14 Con
 tact Hours\, No Partial Credits.\n There is an hou
 r lunch break and a morning and afternoon break. &
 nbsp\;Snacks are permissable at the venue\, please
  bring your food in a cooler. &nbsp\;\n After your
  online registration is completed\, additional inf
 ormation about this class will be sent to your ema
 il please check your &quot\;spam&quot\; folder abo
 ut a week before the class. Thank you.&nbsp\;\n Fr
 ee In-Person Pranic Healing Session is available e
 ach week by appointment School of Holistic Touch 9
 09-937-2055.\n Free Preview of Self Pranic Healing
  &quot\;Your Hands Can Heal You&quot\; or &quot\;R
 elationship Healing&quot\; In-Person and on Zoom i
 s scheduled 6 to 8:30 PM on a Friday each month\; 
 In English\, Spanish\, Mandarin\; Please register 
 at pranichealing.com &quot\;events\,&quot\; Zoom I
 D and PC and Link are posted at PranicWisdom.Com\,
  Services\, FREE TEXT MSG Reminders from pranicwis
 dom@gmail.com. Thank you.&nbsp\;\n The textbook fo
 r this class is Advanced Pranic Healing and is rec
 ommended for the class. The English version is ava
 ilable at School of Holistic Health\, pranichealin
 g.com &quot\;store\,&quot\; Kindle\, Ibooks\, Nook
 .&nbsp\;\n New\, first time Advanced Pranic Healin
 g students\, please email a copy of your Pranic He
 aling Level 1 certificate to pranichealingkei@yaho
 o.com before this class. Thank you.\n Review stude
 nts please email a copy of your certificate Pranic
  Psychotherapy certificate to pranichealingkei@yah
 oo.com. Thank you.&nbsp\;\n Review students with a
 n Advanced Pranic Healing certificate shall not be
  turned away.&nbsp\;\n Free Zoom Q &amp\; A ID/PC 
 6 to 7 PM\, Scheduled Mondays or Tuesdays\, Free T
 EXT MSG REMINDER with a Separate Registration at p
 ranicwisdom.com SERVICES\n &nbsp\;\n \n ADVANCED P
 RANIC HEALING&reg\; is a specialized workshop for 
 those who wish to become more effective healers.\n
  \n In ADVANCED PRANIC HEALING&reg\;\, you will le
 arn how to utilize color prana for quicker\, more 
 effective healing results. Colored prana creates a
  more focused effect on the energy field and the c
 hakras.\n \n Here are some of the other skills tau
 ght in ADVANCED PRANIC HEALING&reg\;:\n \n Advance
 d color healing: You&#39\;ll learn to use the righ
 t proportion\, color combinations and degree of hu
 e of colored prana.\n \n \n Advanced scanning: You
 &#39\;ll learn to interpret and assess more quickl
 y and effectively the correction of imbalances in 
 the energy field patterns.\n \n \n Powerful specia
 lized healing techniques: You&#39\;ll learn Rapid 
 Healing of Wounds\,Cellular Regeneration\, Cleansi
 ng of the Internal Organs\, Cleansing of the Blood
  and other techniques to boost the immune system.\
 n \n \n High-level energetic methods of enhancing 
 the body&#39\;s innate healing ability: You&#39\;l
 l learn techniques for working on AIDS\, cancer\, 
 stroke\, diabetes\, kundalini syndrome (a state in
  which the aura is over-energized due to meditatio
 n or other excessive energy-development practices)
  and other severe ailments.\n \n \n Instructive he
 aling: You&#39\;ll learn to help accelerate healin
 g and recovery by influencing and reprogramming th
 e consciousness of diseased cells and organs.\n \n
  And much more...\n \n Prerequisites: MCKS&nbsp\;P
 ranic Healing&reg\; Level 1
CATEGORIES:Classes
CALSCALE:GREGORIAN
DTSTAMP;TZID=America/Los_Angeles:20260425T090000
DTSTART;TZID=America/Los_Angeles:20260425T090000
DTEND;TZID=America/Los_Angeles:20260426T180000
LOCATION:School of Holistic Touch\n 302 S. Milliken Ave.\n 
 Ste. B Entry\n Ontario\, CA 91761\n United States\
 n 
ORGANIZER:MAILTO:pranichealingkei@yahoo.com
URL:https://pranichealing.com/civicrm/event/info?reset=1&id=12101
END:VEVENT
END:VCALENDAR
