BEGIN:VCALENDAR
VERSION:2.0
PRODID:-//CiviCRM//NONSGML CiviEvent iCal//EN
X-WR-TIMEZONE:America/Los_Angeles
METHOD:PUBLISH
BEGIN:VEVENT
UID:CiviCRM_EventID_12102_9e5cc0f7781387636d8448b7094fbf7f@pranichealing.com
SUMMARY:MCKS Pranic Psychotherapy III (Combo Available)
DESCRIPTION:NOTES: &nbsp\;\n Please arrive by 8:45 AM to compl
 ete the final check-in the classroom on the first 
 day of class.&nbsp\;\n Parking is free in the rear
 \, side and front of the school.&nbsp\;\n Seating 
 is Limited and Physical Distancing at 2&#39\; as r
 ecommended by the State of California Board for Pr
 ivate Postsecondary Education (BPPE)\n Internation
 al MCKS Pranic Healing Certificate issued in this 
 class valid in over 120 countries\n Provider appro
 ved by the California Board of Registered Nursing\
 , Provider #15465\, 10 Contact Hours\, No Partial 
 Credits.\n There is an hour lunch break and a 15 m
 in. morning and 30 min. evening break. &nbsp\;Snac
 ks are permissable at the venue\, please bring you
 r food in a cooler. &nbsp\;\n After your online re
 gistration is completed\, additional information a
 bout this class will be sent to your email please 
 check your &quot\;spam&quot\; folder about a week 
 before the class. Thank you.&nbsp\;\n Free In-Pers
 on Pranic Healing Session is available each week b
 y appointment School of Holistic Touch 909-937-205
 5.\n Free Preview of Self Pranic Healing &quot\;Yo
 ur Hands Can Heal You&quot\; or &quot\;Relationshi
 p Healing&quot\; In-Person and on Zoom is schedule
 d 6 to 8:30 PM on a Friday each month\; In English
 \, Spanish\, Mandarin\; Please register at pranich
 ealing.com &quot\;events\,&quot\; Zoom ID and PC a
 nd Link are posted at PranicWisdom.Com\, Services\
 , FREE TEXT MSG Reminders from pranicwisdom@gmail.
 com. Thank you.&nbsp\;\n The textbook for this cla
 ss is Pranic Psychotherapy and is recommended for 
 the class. The English version is avaiable at pran
 ichealing.com &quot\;store\,&quot\; Kindle\, Ibook
 s\, Nook.&nbsp\;\n New\, first time Pranic Psychot
 herapy students\, please email a copy of your Adva
 nced Pranic Healing certificate to pranichealingke
 i@yahoo.com before this class. Thank you.\n Review
  students please email a copy of your Pranic Psych
 otherapy certificate to pranichealingkei@yahoo.com
 . Thank you.&nbsp\;\n Review students with a Prani
 c Psychotherapy certificate shall not be turned aw
 ay.&nbsp\;\n Free Zoom Q &amp\; A ID/PC 6 to 7 PM\
 , Scheduled Mondays or Tuesdays\, Free TEXT MSG RE
 MINDER with a Separate Registration at pranicwisdo
 m.com SERVICES FREE EVENTS\n \n PRANIC PSYCHOTHERA
 PY&reg\; is the application of PRANIC HEALING&reg\
 ; techniques to healing and alleviating emotional 
 and mental imbalances. Negative emotions and traum
 atic experiences are essentially negative thought 
 forms and emotional energies lodged in the aura an
 d in the critical energy centers. These energies a
 re often difficult to release\, requiring months o
 r even years of traditional psychotherapy to exper
 ience any improvement. But PRANIC PSYCHOTHERAPY&re
 g\; offers you the ability to quickly and safely r
 elease these crippling energetic patterns.\n \n In
  PRANIC PSYCHOTHERAPY&reg\;\, you will learn advan
 ced energetic extraction techniques on the affecte
 d chakras so phobias\, compulsions and addictions 
 can be alleviated in a very short time. But perhap
 s most important\, PRANIC PSYCHOTHERAPY&reg\; can 
 be carried out without the patient having to revea
 l any potentially embarrassing personal informatio
 n. It is not uncommon that in just the first sessi
 on\, a phobia is 70-90 percent gone. In fact\, dur
 ing class time we encourage the students to do the
 ir best to completely remove real-life emotional i
 ssues that their partners have.\n \n Here are some
  of the other topics covered in PRANIC PSYCHOTHERA
 PY&reg\;:\n \n \n 	&nbsp\;&nbsp\;&nbsp\; Self-heal
 ing for tension\, irritability\, grief and anxiety
 .\n 	&nbsp\;&nbsp\;&nbsp\; Repairing damaged or cr
 acked protective webs in the charkas to prevent fu
 ture intrusions.\n 	&nbsp\;&nbsp\;&nbsp\; Purging 
 negative programming acquired during childhood tha
 t could be holding you back from success.\n 	&nbsp
 \;&nbsp\;&nbsp\; Healing the effects of psychic at
 tacks that can cause anxiety attacks\, irritabilit
 y\, bad luck or even financial ruin.\n 	&nbsp\;&nb
 sp\;&nbsp\; Shielding techniques to protect your c
 hakras\, aura and material possessions.\n 	&nbsp\;
 &nbsp\;&nbsp\; Removing the negative influences (e
 .g.\, envy\, jealousy\, anger\, etc.) of other peo
 ple around you.\n 	&nbsp\;&nbsp\;&nbsp\; Extractin
 g and disintegrating negative energies and pattern
 s of such problems as compulsive behaviors\, phobi
 as\, addictions to smoking\, alcohol\, drugs\, foo
 d and sugar\, and even depression.\n 	&nbsp\;&nbsp
 \;&nbsp\; Plus much more...\n \n \n Prerequisites:
  Pranic Healing&reg\; Level 1\, Advanced Pranic He
 aling&reg\;
CATEGORIES:Classes
CALSCALE:GREGORIAN
DTSTAMP;TZID=America/Los_Angeles:20260424T090000
DTSTART;TZID=America/Los_Angeles:20260424T090000
DTEND;TZID=America/Los_Angeles:20260424T203000
LOCATION:School of Holistic Touch\n 302 S. Milliken Ave.\n 
 Ste. B Entry\n Ontario\, CA 91761\n United States\
 n 
ORGANIZER:MAILTO:pranichealingkei@yahoo.com
URL:https://pranichealing.com/civicrm/event/info?reset=1&id=12102
END:VEVENT
END:VCALENDAR
