BEGIN:VCALENDAR
VERSION:2.0
PRODID:-//CiviCRM//NONSGML CiviEvent iCal//EN
X-WR-TIMEZONE:America/Los_Angeles
METHOD:PUBLISH
BEGIN:VEVENT
UID:CiviCRM_EventID_12309_9e5cc0f7781387636d8448b7094fbf7f@pranichealing.com
SUMMARY:ZOOM | Meditation on Twin Hearts
DESCRIPTION:MEDITATION BEGINS AT 9AM PST.\n \n Join us for a p
 owerful introductory talk and guided meditation to
  learn the purpose of meditation and how it can he
 lp you in your daily life!\n \n You will be taught
  the powerful &quot\;Meditation on Twin Hearts&quo
 t\; to calm your emotions and experience inner pea
 ce and a sense of divine connection.\n \n Some Ben
 efits of Meditation:\n \n \n 	&nbsp\;&nbsp\;&nbsp\
 ; Inner Peace and Joy\n 	&nbsp\;&nbsp\;&nbsp\; Hei
 ghtened Intuition\n 	&nbsp\;&nbsp\;&nbsp\; Greater
  ability to handle stress\n 	&nbsp\;&nbsp\;&nbsp\;
  Energy and Inner Strength\n 	&nbsp\;&nbsp\;&nbsp\
 ; To Know your Self!\n \n \n &quot\;By Practicing 
 Stillness\, one becomes aware of the Divine Presen
 ce... within one&#39\;s Self&quot\;\n \n - GrandMa
 ster Choa Kok Sui
CATEGORIES:Intro Talks
CALSCALE:GREGORIAN
DTSTAMP;TZID=America/Los_Angeles:20270216T090000
DTSTART;TZID=America/Los_Angeles:20270216T090000
DTEND;TZID=America/Los_Angeles:20270216T093000
LOCATION:Online (ZOOM)\n Sedona\, AZ\n United States\n 
ORGANIZER:MAILTO:meaghan@pranichealing.com
URL:https://pranichealing.com/civicrm/event/info?reset=1&id=12309
END:VEVENT
END:VCALENDAR
