BEGIN:VCALENDAR
VERSION:2.0
PRODID:-//CiviCRM//NONSGML CiviEvent iCal//EN
X-WR-TIMEZONE:America/Los_Angeles
METHOD:PUBLISH
BEGIN:VEVENT
UID:CiviCRM_EventID_12412_9e5cc0f7781387636d8448b7094fbf7f@pranichealing.com
SUMMARY:Meditation on Twin Hearts
DESCRIPTION:This event is IN PERSON.&nbsp\;\n \n Join us for a
  powerful introductory talk and guided meditation 
 to learn the purpose of meditation and how it can 
 help you in your daily life!\n \n You will be taug
 ht the powerful &quot\;Meditation on Twin Hearts&q
 uot\; to calm your emotions and experience inner p
 eace and a sense of divine connection.\n \n Some B
 enefits of Meditation:\n \n \n 	&nbsp\;&nbsp\;&nbs
 p\; Inner Peace and Joy\n 	&nbsp\;&nbsp\;&nbsp\; H
 eightened Intuition\n 	&nbsp\;&nbsp\;&nbsp\; Great
 er ability to handle stress\n 	&nbsp\;&nbsp\;&nbsp
 \; Energy and Inner Strength\n 	&nbsp\;&nbsp\;&nbs
 p\; To Know your Self!\n \n \n &quot\;By Practicin
 g Stillness\, one becomes aware of the Divine Pres
 ence... within one&#39\;s Self&quot\;\n \n - Grand
 Master Choa Kok Sui
CATEGORIES:Intro Talks
CALSCALE:GREGORIAN
DTSTAMP;TZID=America/Los_Angeles:20261022T090000
DTSTART;TZID=America/Los_Angeles:20261022T090000
DTEND;TZID=America/Los_Angeles:20261022T093000
LOCATION:Sedona Sacred Rocks\n A Metaphysical BnB\n 170 Cou
 ntry Ln.\n Sedona\, AZ 86336\n United States\n 
ORGANIZER:MAILTO:meaghan@pranichealing.com
URL:https://pranichealing.com/civicrm/event/info?reset=1&id=12412
END:VEVENT
END:VCALENDAR
